BEGIN:VCALENDAR
VERSION:2.0
PRODID:-//LH Evans Electrical Suppliers - ECPv6.9.0//NONSGML v1.0//EN
CALSCALE:GREGORIAN
METHOD:PUBLISH
X-WR-CALNAME:LH Evans Electrical Suppliers
X-ORIGINAL-URL:https://lhevans.co.uk
X-WR-CALDESC:Events for LH Evans Electrical Suppliers
REFRESH-INTERVAL;VALUE=DURATION:PT1H
X-Robots-Tag:noindex
X-PUBLISHED-TTL:PT1H
BEGIN:VTIMEZONE
TZID:Europe/London
BEGIN:DAYLIGHT
TZOFFSETFROM:+0000
TZOFFSETTO:+0100
TZNAME:BST
DTSTART:20260329T010000
END:DAYLIGHT
BEGIN:STANDARD
TZOFFSETFROM:+0100
TZOFFSETTO:+0000
TZNAME:GMT
DTSTART:20261025T010000
END:STANDARD
END:VTIMEZONE
BEGIN:VEVENT
DTSTART;TZID=Europe/London:20260514T073000
DTEND;TZID=Europe/London:20260514T123000
DTSTAMP:20260422T224132
CREATED:20260422T105002Z
LAST-MODIFIED:20260422T105023Z
UID:86863-1778743800-1778761800@lhevans.co.uk
SUMMARY:Breakfast Morning with Vent-Axia at LH Evans Cardiff
DESCRIPTION:For nearly 100 years Vent-Axia have been providing quality ventilation solutions for nearly 100 years. \nJoin them at LH Evans in Cardiff for a Breakfast Morning showcasing their range of innovative products with offers available on the day.
URL:https://lhevans.co.uk/event/breakfast-morning-with-vent-axia-at-lh-evans-cardiff/
LOCATION:LH Evans Cardiff\, Ocean Way\, Ocean Park\, Cardiff\, CF24 5HH
END:VEVENT
BEGIN:VEVENT
DTSTART;TZID=Europe/London:20260731T073000
DTEND;TZID=Europe/London:20260731T170000
DTSTAMP:20260422T224132
CREATED:20260309T121531Z
LAST-MODIFIED:20260309T121531Z
UID:86850-1785483000-1785517200@lhevans.co.uk
SUMMARY:Wylex Roadshow at LH Evans Cardiff
DESCRIPTION:Wylex will be bringing their mobile showroom to LH Evans in Cardiff this July. Making the most of the summer they will be showcasing their comprehensive range of high-quality products.
URL:https://lhevans.co.uk/event/wylex-roadshow-at-lh-evans-cardiff-2/
LOCATION:LH Evans Cardiff\, Ocean Way\, Ocean Park\, Cardiff\, CF24 5HH
END:VEVENT
END:VCALENDAR