BEGIN:VCALENDAR
VERSION:2.0
PRODID:-//LH Evans Electrical Suppliers - ECPv6.9.0//NONSGML v1.0//EN
CALSCALE:GREGORIAN
METHOD:PUBLISH
X-ORIGINAL-URL:https://lhevans.co.uk
X-WR-CALDESC:Events for LH Evans Electrical Suppliers
REFRESH-INTERVAL;VALUE=DURATION:PT1H
X-Robots-Tag:noindex
X-PUBLISHED-TTL:PT1H
BEGIN:VTIMEZONE
TZID:Europe/London
BEGIN:DAYLIGHT
TZOFFSETFROM:+0000
TZOFFSETTO:+0100
TZNAME:BST
DTSTART:20240331T010000
END:DAYLIGHT
BEGIN:STANDARD
TZOFFSETFROM:+0100
TZOFFSETTO:+0000
TZNAME:GMT
DTSTART:20241027T010000
END:STANDARD
END:VTIMEZONE
BEGIN:VEVENT
DTSTART;TZID=Europe/London:20240503T073000
DTEND;TZID=Europe/London:20240503T130000
DTSTAMP:20260420T095028
CREATED:20240403T175347Z
LAST-MODIFIED:20240403T175347Z
UID:86585-1714721400-1714741200@lhevans.co.uk
SUMMARY:Breakfast Morning With Envirovent At Crumlin
DESCRIPTION:
URL:https://lhevans.co.uk/event/breakfast-morning-with-envirovent-at-crumlin/
LOCATION:LH Evans Crumlin\, Unit 21 Fern Cl\, Pen-Y-Fan Industrial Estate\, Crumlin\, Newport\, NP11 3EH
END:VEVENT
END:VCALENDAR